BEGIN:VCALENDAR
VERSION:2.0
PRODID:iCalendar-Evo
X-WR-TIMEZONE:US/Eastern
BEGIN:VEVENT
DTSTAMP:20260423THI5154Z
URL:https://www.waldwicknj.gov/events/39874/
DTSTART;TZID=US/Eastern:20260523T100000
DTEND;TZID=US/Eastern:20260523T190000
SUMMARY:Pool Opening Day
DESCRIPTION:10:00 am - 7:00 pm Weekends and Holidays only 
UID:aa02370d-1671-457f-a8f7-2ceb1076f6d320260523T140000@www.waldwicknj.gov
END:VEVENT
END:VCALENDAR